BEGIN:VCALENDAR
VERSION:2.0
PRODID:-//Familientherapie - Antje und Rafael Baubkus - ECPv6.15.12.2//NONSGML v1.0//EN
CALSCALE:GREGORIAN
METHOD:PUBLISH
X-ORIGINAL-URL:https://familien-therapie.net
X-WR-CALDESC:Veranstaltungen für Familientherapie - Antje und Rafael Baubkus
REFRESH-INTERVAL;VALUE=DURATION:PT1H
X-Robots-Tag:noindex
X-PUBLISHED-TTL:PT1H
BEGIN:VTIMEZONE
TZID:Europe/Berlin
BEGIN:DAYLIGHT
TZOFFSETFROM:+0100
TZOFFSETTO:+0200
TZNAME:CEST
DTSTART:20240331T010000
END:DAYLIGHT
BEGIN:STANDARD
TZOFFSETFROM:+0200
TZOFFSETTO:+0100
TZNAME:CET
DTSTART:20241027T010000
END:STANDARD
BEGIN:DAYLIGHT
TZOFFSETFROM:+0100
TZOFFSETTO:+0200
TZNAME:CEST
DTSTART:20250330T010000
END:DAYLIGHT
BEGIN:STANDARD
TZOFFSETFROM:+0200
TZOFFSETTO:+0100
TZNAME:CET
DTSTART:20251026T010000
END:STANDARD
BEGIN:DAYLIGHT
TZOFFSETFROM:+0100
TZOFFSETTO:+0200
TZNAME:CEST
DTSTART:20260329T010000
END:DAYLIGHT
BEGIN:STANDARD
TZOFFSETFROM:+0200
TZOFFSETTO:+0100
TZNAME:CET
DTSTART:20261025T010000
END:STANDARD
BEGIN:DAYLIGHT
TZOFFSETFROM:+0100
TZOFFSETTO:+0200
TZNAME:CEST
DTSTART:20270328T010000
END:DAYLIGHT
BEGIN:STANDARD
TZOFFSETFROM:+0200
TZOFFSETTO:+0100
TZNAME:CET
DTSTART:20271031T010000
END:STANDARD
END:VTIMEZONE
BEGIN:VEVENT
DTSTART;TZID=Europe/Berlin:20260321T130000
DTEND;TZID=Europe/Berlin:20260322T120000
DTSTAMP:20260421T112439
CREATED:20251111T135207Z
LAST-MODIFIED:20251111T135207Z
UID:297-1774098000-1774180800@familien-therapie.net
SUMMARY:Jahreskreisfest (Frühling)
DESCRIPTION:
URL:https://familien-therapie.net/termin/jahreskreisfest-fruehling-2/
LOCATION:Paulshof\, Paulshof 15\, Altlandsberg\, Brandenburg\, 15345\, Germany
CATEGORIES:Jahreskreisfest
END:VEVENT
BEGIN:VEVENT
DTSTART;TZID=Europe/Berlin:20260307T130000
DTEND;TZID=Europe/Berlin:20260308T120000
DTSTAMP:20260421T112439
CREATED:20251111T135208Z
LAST-MODIFIED:20251111T135209Z
UID:304-1772888400-1772971200@familien-therapie.net
SUMMARY:Heilungshütte (Frühjahr)
DESCRIPTION:
URL:https://familien-therapie.net/termin/heilungshuette-fruehjahr-2/
LOCATION:Paulshof\, Paulshof 15\, Altlandsberg\, Brandenburg\, 15345\, Germany
CATEGORIES:Hütte
END:VEVENT
BEGIN:VEVENT
DTSTART;TZID=Europe/Berlin:20260123T180000
DTEND;TZID=Europe/Berlin:20260125T140000
DTSTAMP:20260421T112439
CREATED:20251111T135234Z
LAST-MODIFIED:20251111T135234Z
UID:323-1769191200-1769349600@familien-therapie.net
SUMMARY:Trommelwochenende
DESCRIPTION:
URL:https://familien-therapie.net/termin/trommelwochenende-2/
LOCATION:Paulshof\, Paulshof 15\, Altlandsberg\, Brandenburg\, 15345\, Germany
CATEGORIES:Workshop
END:VEVENT
BEGIN:VEVENT
DTSTART;TZID=Europe/Berlin:20260103T130000
DTEND;TZID=Europe/Berlin:20260104T120000
DTSTAMP:20260421T112439
CREATED:20251111T135208Z
LAST-MODIFIED:20251111T135209Z
UID:302-1767445200-1767528000@familien-therapie.net
SUMMARY:Männerhütte (Winter)
DESCRIPTION:
URL:https://familien-therapie.net/termin/maennerhuette-winter-2/
LOCATION:Paulshof\, Paulshof 15\, Altlandsberg\, Brandenburg\, 15345\, Germany
CATEGORIES:Hütte
END:VEVENT
BEGIN:VEVENT
DTSTART;TZID=Europe/Berlin:20251220T130000
DTEND;TZID=Europe/Berlin:20251221T120000
DTSTAMP:20260421T112439
CREATED:20251026T185335Z
LAST-MODIFIED:20251113T165423Z
UID:171-1766235600-1766318400@familien-therapie.net
SUMMARY:Jahreskreisfest (Winter)
DESCRIPTION:Jeweils zu dem Wechsel der Jahreszeiten\, Winter– und Sommersonnenwende und den Tag -und Nachtgleichen feiern wir eine Schwitzhütte und eine spezielle Zeremonie\, um den Wechsel zu vollziehen. \nDabei danken wir der vergangenen Jahreszeit für ihre Geschenke und beenden bewusst diesen Abschnitt. Gleichzeitig heißen wir die neue Jahreszeit willkommen.
URL:https://familien-therapie.net/termin/jahreskreisfest-winter/
LOCATION:Paulshof\, Paulshof 15\, Altlandsberg\, Brandenburg\, 15345\, Germany
CATEGORIES:Hütte,Jahreskreisfest
ATTACH;FMTTYPE=image/jpeg:https://familien-therapie.net/wp-content/uploads/2025/07/seite-jahreskreisfest-katze-scaled.jpg
END:VEVENT
END:VCALENDAR